BEGIN:VCALENDAR
VERSION:2.0
PRODID:-//stelizabethstdominic.org//eCatholic//EN
X-WR-TIMEZONE:LocalTZ
BEGIN:VTIMEZONE
TZID:LocalTZ
X-LIC-LOCATION:LocalTZ
BEGIN:DAYLIGHT
TZOFFSETFROM:-0500
TZOFFSETTO:-0400
TZNAME:LocalTZ
DTSTART:19700308T020000
RRULE:FREQ=YEARLY;BYMONTH=3;BYDAY=2SU
END:DAYLIGHT
BEGIN:STANDARD
TZOFFSETFROM:-0400
TZOFFSETTO:-0500
TZNAME:LocalTZ
DTSTART:19701101T020000
RRULE:FREQ=YEARLY;BYMONTH=11;BYDAY=1SU
END:STANDARD
END:VTIMEZONE
BEGIN:VEVENT
UID:2871351@stelizabethstdominic.org
DTSTAMP:20260419T162036Z
DTSTART:20260422T183000
DTEND:20260422T203000
RRULE:FREQ=WEEKLY;UNTIL=20260501;BYDAY=WE
EXDATE:20251112T183000,20251126T183000,20251217T183000,20251224T183000,202
 51231T183000,20260114T183000,20260121T183000,20260218T183000
SUMMARY:Youth Group
DESCRIPTION:Youth Group is open to all students in 6-12th grade – whether 
 you go to our church\, another church\, or no church. We meet in the Youth
  Room at the end of the hall in the Parish Center. Youth Group typically i
 nvolves reflecting on the Gospel reading for the coming Sunday and then pl
 aying games\; we also do service projects (like decorating cookies for the
  homebound!).
END:VEVENT
BEGIN:VEVENT
UID:3071224@stelizabethstdominic.org
DTSTAMP:20260419T162036Z
DTSTART:20260426T180000
DTEND:20260426T193000
SUMMARY:Eucharistic Adoration
DESCRIPTION:"Teens and Young Adults are invited to join us for an evening 
 of Eucharistic Adoration with Praise and Worship with musicians from Encou
 nter Worship followed by fellowship at St. Joseph Shrine in Brooklyn on Su
 nday\, April 26\, 2026 from 6-7:30PM\n\nWhether you're looking to deepen y
 our faith or simply seeking a meaningful experience\, this is an event you
  won't want to overlook. Gather your friends\, spend time in adoration\, a
 nd allow the shared devotion to uplift your spirit. We can’t wait to see y
 ou there!"
END:VEVENT
BEGIN:VEVENT
UID:3016370@stelizabethstdominic.org
DTSTAMP:20260419T162036Z
DTSTART;VALUE=DATE:20260614
DTEND;VALUE=DATE:20260620
SUMMARY:KYTM
DESCRIPTION:Trip Info\nThis is the 43rd Kentucky Youth Mission Trip! This 
 trip has evolved over the years\, from a weekend trip\, where we dropped o
 ff clothing and other items for the resale store at Christian Social Servi
 ces\, to the current trip in which we spend a week in Morehead and the sur
 rounding Appalachia area doing service projects with Christian Social Serv
 ices\, Habitat for Humanity\, and other local service organizations. \n\nK
 YMT Basics\nDepart: Sunday\, June 14 after 8:30am Mass from St. Elizabeth\
 ; attending Mass together\nReturn: Friday\, June 19\, early evening\nCost:
  $450 - Students who help with fundraisers get a discount\; the last two y
 ears everyone has gone FREE.\nWe carpool down and stay in the basement of 
 Jesus Our Savior Church on Morehead State University’s campus. Our require
 d chaperone (21+) to child ratio is at least 1:6 (determined by space in v
 ehicles). All sleeping arrangements are divided by gender. \n\nWho can go?
 \nAll youth 13-17 years old\, as well as young adult leaders (18-20 year-o
 lds) and adults who wish to chaperone (aged 21 and older). \nOur group siz
 e will be determined by how many chaperones we have sign up as well as how
  many projects we have lined up. Our current team is Heather Marsh\, Jeff 
 Waterbury\, Mackenzie Cytlak\, Wayne Ahlers and BIll Kalmeta. \n \nFundrai
 sing\nCurrently\, there is our Valentine Dinner (February 13)\, a euchre t
 ournament (March 22) and our Mother's Day brunch (May 10). Additional fund
 raisers may be scheduled\, depending on the group size. All funds will be 
 split amongst those who volunteer at the fundraisers (the total amount rai
 sed will be divided by the total number of hours worked and each child wil
 l earn $/hour). In the past\, most of our participants raise their entire 
 trip cost.\nThere are also optional fundraisers for those who would like t
 o put money directly toward their personal trip cost. \n\nIf you have any 
 additional questions about the trip Heather Marsh will be happy to answer 
 them. 
END:VEVENT
END:VCALENDAR
